BEGIN:VCALENDAR
VERSION:2.0
PRODID:-//Tukios.com/
BEGIN:VEVENT
UID:93afa0df-fc17-4b5e-b8bf-459a1df04fe8@www.dahlmcvicker.com
DTSTAMP:20260422T023710Z
DTSTART:20260512T200000Z
DTEND:20260512T210000Z
SUMMARY:Celebration of Life
DESCRIPTION:
URL:https://www.dahlmcvicker.com/obituaries/hannah-coleman-hanson
LOCATION:Steele Chapel 5050 Mount Solo Road  Longview WA 98632
GEO:46.1621492;-123.0250437
END:VEVENT
END:VCALENDAR