BEGIN:VCALENDAR
VERSION:2.0
PRODID:-//Tukios.com/
BEGIN:VEVENT
UID:90ed1250-8e78-42b8-b146-fe204c8d881e@www.dahlmcvicker.com
DTSTAMP:20260421T224201Z
DTSTART:20260514T180000Z
DTEND:20260514T190000Z
SUMMARY:Celebration of Life
DESCRIPTION:
URL:https://www.dahlmcvicker.com/obituaries/byron-dye
LOCATION: 515 S 312th St  Federal Way WA 98003
GEO:47.3220496;-122.3273867
END:VEVENT
END:VCALENDAR